BEGIN:VCALENDAR
VERSION:2.0
PRODID:icalendar-ruby
CALSCALE:GREGORIAN
METHOD:PUBLISH
BEGIN:VEVENT
DTSTAMP:20260422T221503Z
UID:6-983152@housechurches.tithelysetup2.com
DTSTART:20261011T160000Z
DTEND:20261011T170000Z
CLASS:PUBLIC
CREATED:20260422T145908
DESCRIPTION:Sunday Morning Worship Service
LAST-MODIFIED:20260422T145908
LOCATION:5053 Highway 69 South   Suite 102  Beaumont\, Texas 77705
SUMMARY:Sunday Morning Worship Service
URL;VALUE=URI:https://housechurchesint.com/events/sunday-morning-worship-se
 rvice/2026-10-11
ATTACH;FILENAME=Sunday Service  @ 11am Website.png;FMTTYPE=image/png:https:
 //dq5pwpg1q8ru0.cloudfront.net/2021/06/30/11/26/15/87af4cc0-d28b-4860-bf85
 -fa27a5060e74/Sunday%20Service%20%20@%2011am%20Website.png
END:VEVENT
END:VCALENDAR
